BEGIN:VCALENDAR
VERSION:2.0
PRODID:-//wp-events-plugin.com//7.2.3.1//EN
TZID:America/Los_Angeles
X-WR-TIMEZONE:America/Los_Angeles
BEGIN:VEVENT
UID:1234@oregoncitizenslobby.org
DTSTART;TZID=America/Los_Angeles:20241010T173000
DTEND;TZID=America/Los_Angeles:20241010T173000
DTSTAMP:20240912T151706Z
URL:https://oregoncitizenslobby.org/events/diehl-ballots-brews-10-10-24-st
 ayton-530pm/
SUMMARY:Diehl\, Ballots & Brews\, 10/10/24\, Stayton\, 5:30pm
DESCRIPTION:Rep. Diehl (R\, HD17) will discuss the ballot measures we will 
 be voting on this November.  Join him on Thurs. Oct 10th at Wolfgangs\, 5
 :30 pm.\n\nBe sure to check our calendar for other events where you can sp
 eak up to make a difference.\n\nThis information is provided so you can en
 gage the principles of Oregon Citizen’s Lobby. We do not endorse any can
 didate. OCL is the only Oregon lobby working 100% for and by CITIZENS 
 of Oregon\; we are truly the voices of Oregonians\, not special interests.
  Sign-up here to see how you can volunteer right from your own home to h
 elp spread the word and enhance the effectiveness of OCL. Want to help but
  don’t have time to volunteer? Help support OCL with a donation of any 
 amount here!
ATTACH;FMTTYPE=image/jpeg:https://oregoncitizenslobby.org/wp-content/uploa
 ds/Ed-Diehl-R-HD17.jpg
CATEGORIES:Town Hall
LOCATION:Wolfgang's Tap House\, Stayton\, 403 N 3rd Ave\, Staton\, OR\, 973
 83\, United States
X-APPLE-STRUCTURED-LOCATION;VALUE=URI;X-ADDRESS=403 N 3rd Ave\, Staton\, OR
 \, 97383\, United States;X-APPLE-RADIUS=100;X-TITLE=Wolfgang's Tap House\,
  Stayton:geo:0,0
END:VEVENT
BEGIN:VTIMEZONE
TZID:America/Los_Angeles
X-LIC-LOCATION:America/Los_Angeles
BEGIN:DAYLIGHT
DTSTART:20240310T030000
TZOFFSETFROM:-0800
TZOFFSETTO:-0700
TZNAME:PDT
END:DAYLIGHT
END:VTIMEZONE
END:VCALENDAR