BEGIN:VCALENDAR
VERSION:2.0
PRODID:-//wp-events-plugin.com//7.2.3.1//EN
TZID:America/Los_Angeles
X-WR-TIMEZONE:America/Los_Angeles
BEGIN:VEVENT
UID:1233@oregoncitizenslobby.org
DTSTART;TZID=America/Los_Angeles:20240926T180000
DTEND;TZID=America/Los_Angeles:20240926T180000
DTSTAMP:20240912T151137Z
URL:https://oregoncitizenslobby.org/events/diehl-ballots-brews-9-26-24-sta
 yton-6pm/
SUMMARY:Diehl\, Ballots & Brews\, 9/26/24\, Stayton\, 6pm
DESCRIPTION:Rep. Diehl (R\, HD17) will discuss the ballot measures we will 
 be voting on this November.  Join him on Thurs. Sept 26th at Snow Peak Br
 ewing\, 280 E Water St\, Staton.  \n\nBe sure to check our calendar for 
 other events where you can speak up to make a difference.\n\nThis informat
 ion is provided so you can engage the principles of Oregon Citizen’s Lob
 by. We do not endorse any candidate. OCL is the only Oregon lobby working 
 100% for and by CITIZENS of Oregon\; we are truly the voices of Oregon
 ians\, not special interests. Sign-up here to see how you can volunteer 
 right from your own home to help spread the word and enhance the effective
 ness of OCL. Want to help but don’t have time to volunteer? Help suppor
 t OCL with a donation of any amount here!
ATTACH;FMTTYPE=image/jpeg:https://oregoncitizenslobby.org/wp-content/uploa
 ds/Ed-Diehl-R-HD17.jpg
CATEGORIES:Town Hall
END:VEVENT
BEGIN:VTIMEZONE
TZID:America/Los_Angeles
X-LIC-LOCATION:America/Los_Angeles
BEGIN:DAYLIGHT
DTSTART:20240310T030000
TZOFFSETFROM:-0800
TZOFFSETTO:-0700
TZNAME:PDT
END:DAYLIGHT
END:VTIMEZONE
END:VCALENDAR