BEGIN:VCALENDAR
VERSION:2.0
PRODID:-//wp-events-plugin.com//7.2.3.1//EN
TZID:America/Los_Angeles
X-WR-TIMEZONE:America/Los_Angeles
BEGIN:VEVENT
UID:1241@oregoncitizenslobby.org
DTSTART;TZID=America/Los_Angeles;VALUE=DATE:20241203
DTEND;TZID=America/Los_Angeles;VALUE=DATE:20241204
DTSTAMP:20241125T192428Z
URL:https://oregoncitizenslobby.org/events/findley-owens-mclane-town-halls
 -12-3-24-2-530pm-vale-burns/
SUMMARY:Findley\, Owens\, & McLane Town Halls\, 12/3/24\, 2 & 5:30pm\, Vale
  & Burns
DESCRIPTION:Sen. Elect McLane (R\, SD30)\, Rep. Owens (R\, HD60) and outgo
 ing Sen. Findley (R\, SD30) are hosting two upcoming town hall events\, an
 d they want you to be part of the conversation. These events will provide 
 a chance to discuss the most important issues facing your communities\, li
 ke - why haven't the three of them done anything about having conversation
 s with Idaho legislators after 13 of their counties have voted for them to
  do so?  \n\nCertain things you vote for don't seem to matter to them\, y
 et they still want your vote at election time.\nVale Town Hall\n📅 Date
 : Tuesday\, December 3\n🕒 Time: 2:00-3:00 Mountain Time\n📍 Locatio
 n: Vale Senior Center\; 100 Longfellow Street S. Vale\, OR 97918\nBurns To
 wn Hall\n📅 Date: Tuesday\, December 3\n🕒 Time: 5:30-6:30 Pacific T
 ime\n📍 Location: Harney County Community Center\; 478 N. Broadway Ave.
 \, Burns\, OR 97720\n\n\nBe sure to check our calendar for other events wh
 ere you can speak up to make a difference.\n\nThis information is provided
  so you can engage the principles of Oregon Citizen’s Lobby. We do not e
 ndorse any candidate. OCL is the only Oregon lobby working 100% for and
  by CITIZENS of Oregon\; we are truly the voices of Oregonians\, not spe
 cial interests. Sign-up here to see how you can volunteer right from you
 r own home to help spread the word and enhance the effectiveness of OCL. W
 ant to help but don’t have time to volunteer? Help support OCL with a d
 onation of any amount here!\n\n\n\n\nEmailXTelegram\n
ATTACH;FMTTYPE=image/jpeg:https://oregoncitizenslobby.org/wp-content/uploa
 ds/Mike-McLane-R-SD30.jpg
CATEGORIES:Town Hall
END:VEVENT
BEGIN:VTIMEZONE
TZID:America/Los_Angeles
X-LIC-LOCATION:America/Los_Angeles
BEGIN:STANDARD
DTSTART:20241103T010000
TZOFFSETFROM:-0700
TZOFFSETTO:-0800
TZNAME:PST
END:STANDARD
END:VTIMEZONE
END:VCALENDAR