BEGIN:VCALENDAR
VERSION:2.0
PRODID:-//wp-events-plugin.com//7.2.3.1//EN
TZID:America/Los_Angeles
X-WR-TIMEZONE:America/Los_Angeles
BEGIN:VEVENT
UID:1249@oregoncitizenslobby.org
DTSTART;TZID=America/Los_Angeles:20250308T090000
DTEND;TZID=America/Los_Angeles:20250308T090000
DTSTAMP:20250308T011310Z
URL:https://oregoncitizenslobby.org/events/frederick-saturday-chat-3-8-25-
 ne-portland-9am/
SUMMARY:Frederick Saturday Chat 3-8-25\, NE Portland\, 9am
DESCRIPTION:Sen. Frederick voted to pass SB 762  (wildfire risk map)\, whi
 ch is causing property values to plummet and insurance companies to drop c
 overage of those homes.  Let him know this bill needs to be repealed. Sen
 .LewFrederick@oregonlegislature.gov
ATTACH;FMTTYPE=image/jpeg:https://oregoncitizenslobby.org/wp-content/uploa
 ds/Lew-Frederick-D-SD22.jpg
CATEGORIES:Town Hall
LOCATION:Broadway Grill\, 1700 NE Broadway St\, Portland\, OR\, 97232\, Uni
 ted States
X-APPLE-STRUCTURED-LOCATION;VALUE=URI;X-ADDRESS=1700 NE Broadway St\, Portl
 and\, OR\, 97232\, United States;X-APPLE-RADIUS=100;X-TITLE=Broadway Grill
 :geo:0,0
END:VEVENT
BEGIN:VTIMEZONE
TZID:America/Los_Angeles
X-LIC-LOCATION:America/Los_Angeles
BEGIN:STANDARD
DTSTART:20241103T010000
TZOFFSETFROM:-0700
TZOFFSETTO:-0800
TZNAME:PST
END:STANDARD
END:VTIMEZONE
END:VCALENDAR