BEGIN:VCALENDAR
VERSION:2.0
PRODID:-//wp-events-plugin.com//7.2.3.1//EN
TZID:America/Los_Angeles
X-WR-TIMEZONE:America/Los_Angeles
BEGIN:VEVENT
UID:1245@oregoncitizenslobby.org
DTSTART;TZID=America/Los_Angeles:20241207T100000
DTEND;TZID=America/Los_Angeles:20241207T100000
DTSTAMP:20241205T183811Z
URL:https://oregoncitizenslobby.org/events/gorsek-coffee-conversation-12-7
 -24-troutdale-10am/
SUMMARY:Gorsek Coffee & Conversation\, 12-7-24\, Troutdale\, 10am
DESCRIPTION:Senator Gorsek (D\, HD49) will be having his "Coffee and Conver
 sation" on Sat.\, Dec. 7th at the Troutdale Soca Cafe\, 10am.  He'd like 
 you to share your thoughts\, ask questions\, and learn more about his legi
 slative work.\nWhen: Saturday\, December 7\, at 10:00 AM\nWhere: Troutda
 le Soda Café\, 302 E Historic Columbia River Hwy\, Troutdale\nBe sure to 
 check our calendar for other events where you can speak up to make a diffe
 rence.\nThis information is provided so you can engage the principles of O
 regon Citizen’s Lobby. We do not endorse any candidate. OCL is the only 
 Oregon lobby working 100% for and by CITIZENS of Oregon\; we are truly
  the voices of Oregonians\, not special interests. Sign-up here to see ho
 w you can volunteer right from your own home to help spread the word and 
 enhance the effectiveness of OCL. Want to help but don’t have time to vo
 lunteer? Help support OCL with a donation of any amount here!
ATTACH;FMTTYPE=image/jpeg:https://oregoncitizenslobby.org/wp-content/uploa
 ds/2019/11/ChrisGorsek-D-HD49.jpg
CATEGORIES:Town Hall
END:VEVENT
BEGIN:VTIMEZONE
TZID:America/Los_Angeles
X-LIC-LOCATION:America/Los_Angeles
BEGIN:STANDARD
DTSTART:20241103T010000
TZOFFSETFROM:-0700
TZOFFSETTO:-0800
TZNAME:PST
END:STANDARD
END:VTIMEZONE
END:VCALENDAR