BEGIN:VCALENDAR
VERSION:2.0
PRODID:-//wp-events-plugin.com//7.2.3.1//EN
TZID:America/Los_Angeles
X-WR-TIMEZONE:America/Los_Angeles
BEGIN:VEVENT
UID:1215@oregoncitizenslobby.org
DTSTART;TZID=America/Los_Angeles;VALUE=DATE:20241204
DTEND;TZID=America/Los_Angeles;VALUE=DATE:20241205
DTSTAMP:20240831T165244Z
URL:https://oregoncitizenslobby.org/events/lc-drafts-returned/
SUMMARY:LC Drafts Returned
DESCRIPTION:Legislative Committee Deadlines
ATTACH;FMTTYPE=image/jpeg:https://oregoncitizenslobby.org/wp-content/uploa
 ds/Deadline.jpg
CATEGORIES:Legislative Committee
END:VEVENT
BEGIN:VTIMEZONE
TZID:America/Los_Angeles
X-LIC-LOCATION:America/Los_Angeles
BEGIN:STANDARD
DTSTART:20241103T010000
TZOFFSETFROM:-0700
TZOFFSETTO:-0800
TZNAME:PST
END:STANDARD
END:VTIMEZONE
END:VCALENDAR