BEGIN:VCALENDAR
VERSION:2.0
PRODID:-//wp-events-plugin.com//7.2.3.1//EN
TZID:America/Los_Angeles
X-WR-TIMEZONE:America/Los_Angeles
BEGIN:VEVENT
UID:1202@oregoncitizenslobby.org
DTSTART;TZID=America/Los_Angeles:20240923T000000
DTEND;TZID=America/Los_Angeles:20240925T000000
DTSTAMP:20240831T163159Z
URL:https://oregoncitizenslobby.org/events/legislative-committee-days-3/
SUMMARY:Legislative Committee Days
DESCRIPTION:During Committee Days\, Committees hold informational hearings 
 on topics that could lead to legislation in upcoming sessions\, hear updat
 es on implementations of past legislation or hear reports from state agenc
 ies.
CATEGORIES:Legislative Committee
END:VEVENT
BEGIN:VTIMEZONE
TZID:America/Los_Angeles
X-LIC-LOCATION:America/Los_Angeles
BEGIN:DAYLIGHT
DTSTART:20240310T030000
TZOFFSETFROM:-0800
TZOFFSETTO:-0700
TZNAME:PDT
END:DAYLIGHT
END:VTIMEZONE
END:VCALENDAR