BEGIN:VCALENDAR
VERSION:2.0
PRODID:-//wp-events-plugin.com//7.2.3.1//EN
TZID:America/Los_Angeles
X-WR-TIMEZONE:America/Los_Angeles
BEGIN:VEVENT
UID:1212@oregoncitizenslobby.org
DTSTART;TZID=America/Los_Angeles:20241210T000000
DTEND;TZID=America/Los_Angeles:20241212T000000
DTSTAMP:20241205T184637Z
URL:https://oregoncitizenslobby.org/events/legislative-committee-days-4/
SUMMARY:Legislative Committee Days
DESCRIPTION:During Committee Days\, legislators from across Oregon return t
 o Salem for the quarterly "Legislative Days."  Committees hold informatio
 nal hearings on a variety of topics\, but do not vote on policy or pass le
 gislation.  Topics can often be ones that may lead to legislation in upco
 ming sessions or committees may hear updates on previous bill implementati
 ons.  Many committees will hear reports from state agencies and Task Forc
 es or consider testimony regarding current subject areas affecting Oregoni
 ans. This particular Legislative Days will provide an opportunity for Comm
 ittees to plan for the upcoming 2025 Session and consider the Committee bi
 lls that each Committee will introduce.  It's also one final opportunity 
 to hear about Session priorities from stakeholders before bills are offici
 ally introduced in 2025. 
CATEGORIES:Legislative Committee
LOCATION:Oregon State Capital\, 900 Court St NE\, Salem\, OR\, 97301\, Unit
 ed States
GEO:44.9385927;-123.03093369999999
X-APPLE-STRUCTURED-LOCATION;VALUE=URI;X-ADDRESS=900 Court St NE\, Salem\, O
 R\, 97301\, United States;X-APPLE-RADIUS=100;X-TITLE=Oregon State Capital:
 geo:44.9385927,-123.03093369999999
END:VEVENT
BEGIN:VTIMEZONE
TZID:America/Los_Angeles
X-LIC-LOCATION:America/Los_Angeles
BEGIN:STANDARD
DTSTART:20241103T010000
TZOFFSETFROM:-0700
TZOFFSETTO:-0800
TZNAME:PST
END:STANDARD
END:VTIMEZONE
END:VCALENDAR