BEGIN:VCALENDAR
VERSION:2.0
PRODID:-//wp-events-plugin.com//7.2.3.1//EN
TZID:America/Los_Angeles
X-WR-TIMEZONE:America/Los_Angeles
BEGIN:VEVENT
UID:1865@oregoncitizenslobby.org
DTSTART;TZID=America/Los_Angeles:20260426T140000
DTEND;TZID=America/Los_Angeles:20260426T140000
DTSTAMP:20260410T161553Z
URL:https://oregoncitizenslobby.org/events/levy-kropf-broadman-joint-town-
 hall-4-26-26-bend-2pm/
SUMMARY:Levy\, Kropf\, Broadman\, Joint Town Hall\, 4-26-26 Bend\, 2pm
DESCRIPTION:Who's protecting and representing who?
ATTACH;FMTTYPE=image/jpeg:https://oregoncitizenslobby.org/wp-content/uploa
 ds/Emerson-Levy-D-HD53.jpg
CATEGORIES:Town Hall
END:VEVENT
BEGIN:VTIMEZONE
TZID:America/Los_Angeles
X-LIC-LOCATION:America/Los_Angeles
BEGIN:DAYLIGHT
DTSTART:20260308T030000
TZOFFSETFROM:-0800
TZOFFSETTO:-0700
TZNAME:PDT
END:DAYLIGHT
END:VTIMEZONE
END:VCALENDAR