BEGIN:VCALENDAR
VERSION:2.0
PRODID:-//wp-events-plugin.com//7.2.3.1//EN
TZID:America/Los_Angeles
X-WR-TIMEZONE:America/Los_Angeles
BEGIN:VEVENT
UID:1872@oregoncitizenslobby.org
DTSTART;TZID=America/Los_Angeles:20260430T180000
DTEND;TZID=America/Los_Angeles:20260430T193000
DTSTAMP:20260421T014221Z
URL:https://oregoncitizenslobby.org/events/lieber-campos-town-hall-4-30-26
 -6pm/
SUMMARY:Lieber & Campos Town Hall\, 4-30-26\, 6pm
DESCRIPTION:Isn't it time for Oregon's comeback?
ATTACH;FMTTYPE=image/jpeg:https://oregoncitizenslobby.org/wp-content/uploa
 ds/2021/01/Kate-Lieber-D-SD14-21-25.jpg
CATEGORIES:Town Hall
END:VEVENT
BEGIN:VTIMEZONE
TZID:America/Los_Angeles
X-LIC-LOCATION:America/Los_Angeles
BEGIN:DAYLIGHT
DTSTART:20260308T030000
TZOFFSETFROM:-0800
TZOFFSETTO:-0700
TZNAME:PDT
END:DAYLIGHT
END:VTIMEZONE
END:VCALENDAR