BEGIN:VCALENDAR
VERSION:2.0
PRODID:-//wp-events-plugin.com//7.2.3.1//EN
TZID:America/Los_Angeles
X-WR-TIMEZONE:America/Los_Angeles
BEGIN:VEVENT
UID:1628@oregoncitizenslobby.org
DTSTART;TZID=America/Los_Angeles:20250223T130000
DTEND;TZID=America/Los_Angeles:20250223T130000
DTSTAMP:20250220T172344Z
URL:https://oregoncitizenslobby.org/events/lieber-grayber-helm-joint-town-
 hall-2-23-25-location-tba-1pm/
SUMMARY:Lieber\, Grayber\, Helm Joint Town Hall\, 2-23-25\, Beaverton\, 1pm
DESCRIPTION:Here's your chance to as these legislators in person why they a
 re working to raise more of your taxes and fees.
ATTACH;FMTTYPE=image/jpeg:https://oregoncitizenslobby.org/wp-content/uploa
 ds/2021/01/Kate-Lieber-D-SD14-21-25.jpg
CATEGORIES:Town Hall
LOCATION:Beaverton Library\, 1275 SW 5th St\, Beaverton\, OR\, 97005\, Unit
 ed States
X-APPLE-STRUCTURED-LOCATION;VALUE=URI;X-ADDRESS=1275 SW 5th St\, Beaverton\
 , OR\, 97005\, United States;X-APPLE-RADIUS=100;X-TITLE=Beaverton Library:
 geo:0,0
END:VEVENT
BEGIN:VTIMEZONE
TZID:America/Los_Angeles
X-LIC-LOCATION:America/Los_Angeles
BEGIN:STANDARD
DTSTART:20241103T010000
TZOFFSETFROM:-0700
TZOFFSETTO:-0800
TZNAME:PST
END:STANDARD
END:VTIMEZONE
END:VCALENDAR