BEGIN:VCALENDAR
VERSION:2.0
PRODID:-//wp-events-plugin.com//7.2.3.1//EN
TZID:America/Los_Angeles
X-WR-TIMEZONE:America/Los_Angeles
BEGIN:VEVENT
UID:1228@oregoncitizenslobby.org
DTSTART;TZID=America/Los_Angeles:20240905T180000
DTEND;TZID=America/Los_Angeles:20240905T200000
DTSTAMP:20240826T192503Z
URL:https://oregoncitizenslobby.org/events/lively-town-hall-9-5-24-springf
 ield-6pm/
SUMMARY:Lively Town Hall\, 9/5/24\, Springfield\, 6-8pm
DESCRIPTION:Rep. Lively (D\, HD7) will be hosting a Town Hall on Thurs. Sep
 . 5th in the Springfield City Hall at 6-8pm.  Rep. Lively voted to pass 
 SB 762  (wildfire risk map)\, which is causing property values to plummet
  and insurance companies to drop coverage of those homes.  He wants to he
 ar from you!  Please tell him this bill needs to be repealed.\n\nBe sure 
 to check our calendar for other events where you can speak up to make a di
 fference.\n\nThis information is provided so you can engage the principles
  of Oregon Citizen’s Lobby. We do not endorse any candidate. OCL is the 
 only Oregon lobby working 100% for and by CITIZENS of Oregon\; we are 
 truly the voices of Oregonians\, not special interests. Sign-up here to s
 ee how you can volunteer right from your own home to help spread the word
  and enhance the effectiveness of OCL. Want to help but don’t have time 
 to volunteer? Help support OCL with a donation of any amount here!
ATTACH;FMTTYPE=image/jpeg:https://oregoncitizenslobby.org/wp-content/uploa
 ds/2023/04/John-Lively-D-HD7.jpg
CATEGORIES:Town Hall
LOCATION:Springfield City Hall\, City Council Chambers\, 225 5th St\, Sprin
 gfield\, OR\, 97477\, United States
X-APPLE-STRUCTURED-LOCATION;VALUE=URI;X-ADDRESS=225 5th St\, Springfield\, 
 OR\, 97477\, United States;X-APPLE-RADIUS=100;X-TITLE=Springfield City Hal
 l\, City Council Chambers:geo:0,0
END:VEVENT
BEGIN:VTIMEZONE
TZID:America/Los_Angeles
X-LIC-LOCATION:America/Los_Angeles
BEGIN:DAYLIGHT
DTSTART:20240310T030000
TZOFFSETFROM:-0800
TZOFFSETTO:-0700
TZNAME:PDT
END:DAYLIGHT
END:VTIMEZONE
END:VCALENDAR