BEGIN:VCALENDAR
VERSION:2.0
PRODID:-//wp-events-plugin.com//7.2.3.1//EN
TZID:America/Los_Angeles
X-WR-TIMEZONE:America/Los_Angeles
BEGIN:VEVENT
UID:1798@oregoncitizenslobby.org
DTSTART;TZID=America/Los_Angeles:20251201T180000
DTEND;TZID=America/Los_Angeles:20251201T180000
DTSTAMP:20251124T163006Z
URL:https://oregoncitizenslobby.org/events/mclane-owens-town-halls-12-1-25
 -ontario-6pm/
SUMMARY:McLane\, Owens Town Halls\, 12-1-25\, Ontario\, 6pm
DESCRIPTION:What are they doing to help you remain here in Oregon?
ATTACH;FMTTYPE=image/jpeg:https://oregoncitizenslobby.org/wp-content/uploa
 ds/Mike-McLane-R-SD30.jpg
CATEGORIES:Town Hall
END:VEVENT
BEGIN:VTIMEZONE
TZID:America/Los_Angeles
X-LIC-LOCATION:America/Los_Angeles
BEGIN:STANDARD
DTSTART:20251102T010000
TZOFFSETFROM:-0700
TZOFFSETTO:-0800
TZNAME:PST
END:STANDARD
END:VTIMEZONE
END:VCALENDAR