BEGIN:VCALENDAR
VERSION:2.0
PRODID:-//wp-events-plugin.com//7.2.3.1//EN
TZID:America/Los_Angeles
X-WR-TIMEZONE:America/Los_Angeles
BEGIN:VEVENT
UID:1624@oregoncitizenslobby.org
DTSTART;TZID=America/Los_Angeles:20250208T150000
DTEND;TZID=America/Los_Angeles:20250208T163000
DTSTAMP:20250131T193052Z
URL:https://oregoncitizenslobby.org/events/meek-town-hall-2-8-25-happy-val
 ley-3-4pm/
SUMMARY:Meek Town Hall\, 2-8-25\, Happy Valley\, 3-4pm
DESCRIPTION:Let him know he needs to help pass SB 678 to repeal wildfire pr
 otection provisions adopted in SB 762. 
ATTACH;FMTTYPE=image/jpeg:https://oregoncitizenslobby.org/wp-content/uploa
 ds/2023/02/Mark-Meek.jpg
CATEGORIES:Town Hall
END:VEVENT
BEGIN:VTIMEZONE
TZID:America/Los_Angeles
X-LIC-LOCATION:America/Los_Angeles
BEGIN:STANDARD
DTSTART:20241103T010000
TZOFFSETFROM:-0700
TZOFFSETTO:-0800
TZNAME:PST
END:STANDARD
END:VTIMEZONE
END:VCALENDAR