BEGIN:VCALENDAR
VERSION:2.0
PRODID:-//wp-events-plugin.com//7.2.3.1//EN
TZID:America/Los_Angeles
X-WR-TIMEZONE:America/Los_Angeles
BEGIN:VEVENT
UID:1676@oregoncitizenslobby.org
DTSTART;TZID=America/Los_Angeles:20250410T173000
DTEND;TZID=America/Los_Angeles:20250410T183000
DTSTAMP:20250403T155056Z
URL:https://oregoncitizenslobby.org/events/meek-town-hall-4-10-25-gladston
 e-530pm/
SUMMARY:Meek Town Hall\, 4-10-25\, Gladstone\, 5:30pm
DESCRIPTION:Sen. Meek voted to pass SB 762  (wildfire risk map)\, which is 
 causing property values to plummet and insurance companies to drop coverag
 e of those homes.  Let him know this bill needs to be repealed. Sen.MarkMe
 ek@oregonlegislature.gov
ATTACH;FMTTYPE=image/jpeg:https://oregoncitizenslobby.org/wp-content/uploa
 ds/2023/02/Mark-Meek.jpg
CATEGORIES:Town Hall
END:VEVENT
BEGIN:VTIMEZONE
TZID:America/Los_Angeles
X-LIC-LOCATION:America/Los_Angeles
BEGIN:DAYLIGHT
DTSTART:20250309T030000
TZOFFSETFROM:-0800
TZOFFSETTO:-0700
TZNAME:PDT
END:DAYLIGHT
END:VTIMEZONE
END:VCALENDAR