BEGIN:VCALENDAR
VERSION:2.0
PRODID:-//wp-events-plugin.com//7.2.3.1//EN
TZID:America/Los_Angeles
X-WR-TIMEZONE:America/Los_Angeles
BEGIN:VEVENT
UID:1634@oregoncitizenslobby.org
DTSTART;TZID=America/Los_Angeles;VALUE=DATE:20250222
DTEND;TZID=America/Los_Angeles;VALUE=DATE:20250223
DTSTAMP:20250219T191330Z
URL:https://oregoncitizenslobby.org/events/merkley-bonamici-town-hall-2-22
 -25-rockaway-10am/
SUMMARY:Merkley\, Bonamici Town Halls\, 2-22-25\, N. Oregon
DESCRIPTION:Why are they not supporting the new administration's transparen
 cy into what our tax dollars are really funding?
ATTACH;FMTTYPE=image/jpeg:https://oregoncitizenslobby.org/wp-content/uploa
 ds/2019/09/TownHall.jpg
CATEGORIES:Town Hall
END:VEVENT
BEGIN:VTIMEZONE
TZID:America/Los_Angeles
X-LIC-LOCATION:America/Los_Angeles
BEGIN:STANDARD
DTSTART:20241103T010000
TZOFFSETFROM:-0700
TZOFFSETTO:-0800
TZNAME:PST
END:STANDARD
END:VTIMEZONE
END:VCALENDAR