BEGIN:VCALENDAR
VERSION:2.0
PRODID:-//wp-events-plugin.com//7.2.3.1//EN
TZID:America/Los_Angeles
X-WR-TIMEZONE:America/Los_Angeles
BEGIN:VEVENT
UID:1614@oregoncitizenslobby.org
DTSTART;TZID=America/Los_Angeles:20250118T140000
DTEND;TZID=America/Los_Angeles:20250118T153000
DTSTAMP:20250114T203317Z
URL:https://oregoncitizenslobby.org/events/neron-bowman-woods-town-hall-1-
 18-25-king-city-2-330-pm/
SUMMARY:Neron\, Bowman\, Woods Town Hall\, 1-18-25\, King City\, 2-3:30 pm
DESCRIPTION:Be sure to attend their town hall and ask about all the propose
 d tax bills we hear are going to be introduced this year.  Click the headi
 ng for specific details.
ATTACH;FMTTYPE=image/jpeg:https://oregoncitizenslobby.org/wp-content/uploa
 ds/2023/01/CourtneyNeron-D-HD26.jpg
CATEGORIES:Town Hall
LOCATION:King City Civics Association Clubhouse\, 15245 SW 116th Ave\, Port
 land\, Oregon\, 97224\, United States
X-APPLE-STRUCTURED-LOCATION;VALUE=URI;X-ADDRESS=15245 SW 116th Ave\, Portla
 nd\, Oregon\, 97224\, United States;X-APPLE-RADIUS=100;X-TITLE=King City C
 ivics Association Clubhouse:geo:0,0
END:VEVENT
BEGIN:VTIMEZONE
TZID:America/Los_Angeles
X-LIC-LOCATION:America/Los_Angeles
BEGIN:STANDARD
DTSTART:20241103T010000
TZOFFSETFROM:-0700
TZOFFSETTO:-0800
TZNAME:PST
END:STANDARD
END:VTIMEZONE
END:VCALENDAR