BEGIN:VCALENDAR
VERSION:2.0
PRODID:-//wp-events-plugin.com//7.2.3.1//EN
TZID:America/Los_Angeles
X-WR-TIMEZONE:America/Los_Angeles
BEGIN:VEVENT
UID:1231@oregoncitizenslobby.org
DTSTART;TZID=America/Los_Angeles:20241005T150000
DTEND;TZID=America/Los_Angeles:20241005T160000
DTSTAMP:20240906T162551Z
URL:https://oregoncitizenslobby.org/events/neron-town-hall-10-5-24-wilsonv
 ille-3pm/
SUMMARY:Neron Town Hall\, 10/5/24\, Wilsonville\, 3pm
DESCRIPTION:Rep. Neron (D\, HD26) will have a Town Hall on Sat. Oct. 5th at
  the Wilsonville Public Library\, 3 - 4 pm.\n\nRep. Neron voted to pass S
 B 762  (wildfire risk map)\, which is causing property values to plummet
  and insurance companies to drop coverage of those homes.  Please tell he
 r this bill needs to be repealed.\n\nBe sure to check our calendar for oth
 er events where you can speak up to make a difference.\n\nThis information
  is provided so you can engage the principles of Oregon Citizen’s Lobby.
  We do not endorse any candidate. OCL is the only Oregon lobby working 100
 % for and by CITIZENS of Oregon\; we are truly the voices of Oregonian
 s\, not special interests. Sign-up here to see how you can volunteer rig
 ht from your own home to help spread the word and enhance the effectivenes
 s of OCL. Want to help but don’t have time to volunteer? Help support O
 CL with a donation of any amount here!
ATTACH;FMTTYPE=image/jpeg:https://oregoncitizenslobby.org/wp-content/uploa
 ds/2023/01/CourtneyNeron-D-HD26.jpg
CATEGORIES:Town Hall
LOCATION:Wilsonville Library\, 8200 SW Wilsonville Rd\, Wilsonville\, Orego
 n\, 97070\, United States
X-APPLE-STRUCTURED-LOCATION;VALUE=URI;X-ADDRESS=8200 SW Wilsonville Rd\, Wi
 lsonville\, Oregon\, 97070\, United States;X-APPLE-RADIUS=100;X-TITLE=Wils
 onville Library:geo:0,0
END:VEVENT
BEGIN:VTIMEZONE
TZID:America/Los_Angeles
X-LIC-LOCATION:America/Los_Angeles
BEGIN:DAYLIGHT
DTSTART:20240310T030000
TZOFFSETFROM:-0800
TZOFFSETTO:-0700
TZNAME:PDT
END:DAYLIGHT
END:VTIMEZONE
END:VCALENDAR