BEGIN:VCALENDAR
VERSION:2.0
PRODID:-//wp-events-plugin.com//7.2.3.1//EN
TZID:America/Los_Angeles
X-WR-TIMEZONE:America/Los_Angeles
BEGIN:VEVENT
UID:1229@oregoncitizenslobby.org
DTSTART;TZID=America/Los_Angeles:20240904T173000
DTEND;TZID=America/Los_Angeles:20240904T173000
DTSTAMP:20241212T004617Z
URL:https://oregoncitizenslobby.org/events/owens-findlley-joint-virtual-to
 wn-hall-9-4-24-530pm/
SUMMARY:Owens-Findlley Joint Virtual Town Hall 9/4/24\, 5:30pm
DESCRIPTION:Rep. Owens (R\, HD60) and Sen Findley (R\, SD30) will be having
  a Virtual Town Hall on Wed\, Sep 4th at 5:30 pm.\n\nPlease attend and ask
  both Rep. Owens and Sen. Findley why they voted yes on  SB 762  (wildfi
 re risk map) which is causing property values to plummet and insurance com
 panies to drop coverage of those homes.  Let them know this bill needs to
  be repealed.\n\nAlso ask them why they are doing nothing to encourage Ore
 gon legislators to have a conversation with Idaho legislators about moving
  the border when most of their constituents have voted for this to be look
 ed into.\n\nRemember\; they are supposed to work for you\, not against you
 .\n\nBe sure to check our calendar for other events where you can speak up
  to make a difference.\n\nThis information is provided so you can engage t
 he principles of Oregon Citizen’s Lobby. We do not endorse any candidate
 . OCL is the only Oregon lobby working 100% for and by CITIZENS of Ore
 gon\; we are truly the voices of Oregonians\, not special interests. Sign
 -up here to see how you can volunteer right from your own home to help sp
 read the word and enhance the effectiveness of OCL. Want to help but don
 ’t have time to volunteer? Help support OCL with a donation of any amou
 nt here!
ATTACH;FMTTYPE=image/jpeg:https://oregoncitizenslobby.org/wp-content/uploa
 ds/2020/05/OwensMark-R-HD60.jpg
CATEGORIES:Town Hall
LOCATION:!Virtual Online Meeting!\, Online Virtual\, Meeting\, 
X-APPLE-STRUCTURED-LOCATION;VALUE=URI;X-ADDRESS=Online Virtual\, Meeting\, 
 ;X-APPLE-RADIUS=100;X-TITLE=!Virtual Online Meeting!:geo:0,0
END:VEVENT
BEGIN:VTIMEZONE
TZID:America/Los_Angeles
X-LIC-LOCATION:America/Los_Angeles
BEGIN:DAYLIGHT
DTSTART:20240310T030000
TZOFFSETFROM:-0800
TZOFFSETTO:-0700
TZNAME:PDT
END:DAYLIGHT
END:VTIMEZONE
END:VCALENDAR