BEGIN:VCALENDAR
VERSION:2.0
PRODID:-//wp-events-plugin.com//7.2.3.1//EN
TZID:America/Los_Angeles
X-WR-TIMEZONE:America/Los_Angeles
BEGIN:VEVENT
UID:1204@oregoncitizenslobby.org
DTSTART;TZID=America/Los_Angeles;VALUE=DATE:20240927
DTEND;TZID=America/Los_Angeles;VALUE=DATE:20240928
DTSTAMP:20240831T163939Z
URL:https://oregoncitizenslobby.org/events/request-deadline/
SUMMARY:Request Deadline
DESCRIPTION:Legislative Deadlines
ATTACH;FMTTYPE=image/jpeg:https://oregoncitizenslobby.org/wp-content/uploa
 ds/Deadline.jpg
CATEGORIES:Legislative Committee
END:VEVENT
BEGIN:VTIMEZONE
TZID:America/Los_Angeles
X-LIC-LOCATION:America/Los_Angeles
BEGIN:DAYLIGHT
DTSTART:20240310T030000
TZOFFSETFROM:-0800
TZOFFSETTO:-0700
TZNAME:PDT
END:DAYLIGHT
END:VTIMEZONE
END:VCALENDAR