BEGIN:VCALENDAR
VERSION:2.0
PRODID:-//wp-events-plugin.com//7.2.3.1//EN
TZID:America/Los_Angeles
X-WR-TIMEZONE:America/Los_Angeles
BEGIN:VEVENT
UID:1251@oregoncitizenslobby.org
DTSTART;TZID=America/Los_Angeles:20241221T100000
DTEND;TZID=America/Los_Angeles:20241221T100000
DTSTAMP:20241220T181533Z
URL:https://oregoncitizenslobby.org/events/ruiz-town-hall-12-21-24-gresham
 -10am/
SUMMARY:Ruiz Town Hall\, 12-21-24\, Gresham\, 10am
DESCRIPTION:Rep. Ruiz (D\, HD50) will be having his Constituent Coffee this
  Sat\, Dec. 21st at Autumn Coffee Roasting (496 NE 2nd St\, Gresham\, OR 9
 7030) starting at 10 AM to discuss the upcoming 2025 legislative add-more-
 taxes-session and important local issues. This is your chance to share you
 r thoughts\, ask questions\, and connect.\n\nBe sure to check our calendar
  for other events where you can speak up to make a difference.\n\nThis inf
 ormation is provided so you can engage the principles of Oregon Citizen’
 s Lobby. We do not endorse any candidate. OCL is the only Oregon lobby wor
 king 100% for and by CITIZENS of Oregon\; we are truly the voices of O
 regonians\, not special interests. Sign-up here to see how you can volunt
 eer right from your own home to help spread the word and enhance the effe
 ctiveness of OCL. Want to help but don’t have time to volunteer? Help s
 upport OCL with a donation of any amount here!
ATTACH;FMTTYPE=image/jpeg:https://oregoncitizenslobby.org/wp-content/uploa
 ds/2021/03/Ricki-Ruiz-D-HD50.jpg
CATEGORIES:Town Hall
END:VEVENT
BEGIN:VTIMEZONE
TZID:America/Los_Angeles
X-LIC-LOCATION:America/Los_Angeles
BEGIN:STANDARD
DTSTART:20241103T010000
TZOFFSETFROM:-0700
TZOFFSETTO:-0800
TZNAME:PST
END:STANDARD
END:VTIMEZONE
END:VCALENDAR