BEGIN:VCALENDAR
VERSION:2.0
PRODID:-//wp-events-plugin.com//7.2.3.1//EN
TZID:America/Los_Angeles
X-WR-TIMEZONE:America/Los_Angeles
BEGIN:VEVENT
UID:1612@oregoncitizenslobby.org
DTSTART;TZID=America/Los_Angeles:20250208T100000
DTEND;TZID=America/Los_Angeles:20250208T120000
DTSTAMP:20250131T184409Z
URL:https://oregoncitizenslobby.org/events/sanchez-frederick-nelson-joint-
 town-hall-2-8-25-ne-portland-10-12pm/
SUMMARY:Sanchez\, Frederick\, Nelson Joint Town Hall\, 2-8-25\, NE Portland
 \, 10-12pm
DESCRIPTION:Click the heading to find out what some of her priorities are.
ATTACH;FMTTYPE=image/jpeg:https://oregoncitizenslobby.org/wp-content/uploa
 ds/Tawna-Sanchez-D-HD43.jpg
CATEGORIES:Town Hall
END:VEVENT
BEGIN:VTIMEZONE
TZID:America/Los_Angeles
X-LIC-LOCATION:America/Los_Angeles
BEGIN:STANDARD
DTSTART:20241103T010000
TZOFFSETFROM:-0700
TZOFFSETTO:-0800
TZNAME:PST
END:STANDARD
END:VTIMEZONE
END:VCALENDAR