BEGIN:VCALENDAR
VERSION:2.0
PRODID:-//wp-events-plugin.com//7.2.3.1//EN
TZID:America/Los_Angeles
X-WR-TIMEZONE:America/Los_Angeles
BEGIN:VEVENT
UID:1222@oregoncitizenslobby.org
DTSTART;TZID=America/Los_Angeles:20240831T090000
DTEND;TZID=America/Los_Angeles:20240831T090000
DTSTAMP:20240828T214805Z
URL:https://oregoncitizenslobby.org/events/sen-golden-zoom-town-hall-8-31-
 24/
SUMMARY:Sen. Golden ZOOM Town Hall\, 8/31/24
DESCRIPTION:Sen. Golden (D\, SD3)\, who is a supporter of SB 762  (wildfir
 e risk map) which is causing property values to plummet and insurance comp
 anies to drop coverage of those homes\, is having a virtual Town Hall on S
 at. Aug. 31 at 9 am.  You may request the link to attend this meeting by 
 sending an email to his office -&gt\; sen.jeffgolden@oregonlegislature.com
 \n\nPlease be sure to tell him this bill needs to be repealed.\n\nBe sure 
 to check our calendar for other events where you can speak up to make a di
 fference.\n\nThis information is provided so you can engage the principles
  of Oregon Citizen’s Lobby. We do not endorse any candidate. OCL is the 
 only Oregon lobby working 100% for and by CITIZENS of Oregon\; we are 
 truly the voices of Oregonians\, not special interests. Sign-up here to s
 ee how you can volunteer right from your own home to help spread the word
  and enhance the effectiveness of OCL. Want to help but don’t have time 
 to volunteer? Help support OCL with a donation of any amount here!
ATTACH;FMTTYPE=image/jpeg:https://oregoncitizenslobby.org/wp-content/uploa
 ds/Jeff-Golden-D-SD3.jpg
CATEGORIES:Town Hall
LOCATION:!Virtual Online Meeting!\, Online Virtual\, Meeting\, 
X-APPLE-STRUCTURED-LOCATION;VALUE=URI;X-ADDRESS=Online Virtual\, Meeting\, 
 ;X-APPLE-RADIUS=100;X-TITLE=!Virtual Online Meeting!:geo:0,0
END:VEVENT
BEGIN:VTIMEZONE
TZID:America/Los_Angeles
X-LIC-LOCATION:America/Los_Angeles
BEGIN:DAYLIGHT
DTSTART:20240310T030000
TZOFFSETFROM:-0800
TZOFFSETTO:-0700
TZNAME:PDT
END:DAYLIGHT
END:VTIMEZONE
END:VCALENDAR