BEGIN:VCALENDAR
VERSION:2.0
PRODID:-//wp-events-plugin.com//7.2.3.1//EN
TZID:America/Los_Angeles
X-WR-TIMEZONE:America/Los_Angeles
BEGIN:VEVENT
UID:1786@oregoncitizenslobby.org
DTSTART;TZID=America/Los_Angeles:20251025T100000
DTEND;TZID=America/Los_Angeles:20251025T110000
DTSTAMP:20251008T161151Z
URL:https://oregoncitizenslobby.org/events/sollman-town-hall-10-25-25-hill
 sboro-10am/
SUMMARY:Sollman Town Hall\, 10-25-25\, Hillsboro\, 10am
DESCRIPTION:Be sure to thank her for voting yes during the Special Session 
 which will raise taxes and fees on everything in Oregon.
ATTACH;FMTTYPE=image/jpeg:https://oregoncitizenslobby.org/wp-content/uploa
 ds/2019/10/Sollman-Janeen-D-HD30.jpg
CATEGORIES:Town Hall
END:VEVENT
BEGIN:VTIMEZONE
TZID:America/Los_Angeles
X-LIC-LOCATION:America/Los_Angeles
BEGIN:DAYLIGHT
DTSTART:20250309T030000
TZOFFSETFROM:-0800
TZOFFSETTO:-0700
TZNAME:PDT
END:DAYLIGHT
END:VTIMEZONE
END:VCALENDAR