BEGIN:VCALENDAR
VERSION:2.0
PRODID:-//wp-events-plugin.com//7.2.3.1//EN
TZID:America/Los_Angeles
X-WR-TIMEZONE:America/Los_Angeles
BEGIN:VEVENT
UID:1223@oregoncitizenslobby.org
DTSTART;TZID=America/Los_Angeles:20240919T180000
DTEND;TZID=America/Los_Angeles:20240919T190000
DTSTAMP:20240906T163953Z
URL:https://oregoncitizenslobby.org/events/sollman-virtual-community-conve
 rsation-9-19-24/
SUMMARY:Sollman Virtual Community Conversation\, 9/19/24
DESCRIPTION:Sen. Sollman (D\, SD15) will be having a Virtual Community Conv
 ersation with the public on Thurs. Sept. 19th from 6 - 7 pm.  You may use
  this link to join the meeting now or copy it and save it in your calendar
  for use at the designated time.  The virtual meeting platform is Microso
 ft Teams. If you have not used MS Teams before\, you may need a couple ext
 ra minutes to get set up.\n\nSen Sollman is all for locking up guns in you
 r home so you can't get to them when you need them in an emergency. She sa
 ys firearms are the leading cause of death for American children.  She en
 courages as one of the smartest things all adults can do to keep kids\, cl
 assrooms\, and communities safe from gun violence is raise awareness about
  secure gun storage.\n\nShe also voted to pass SB 762  (wildfire risk m
 ap)\, which is causing property values to plummet and insurance companies 
 to drop coverage of those homes.  Please tell her this bill needs to be r
 epealed.\n\nBe sure to check our calendar for other events where you can s
 peak up to make a difference.\n\nThis information is provided so you can e
 ngage the principles of Oregon Citizen’s Lobby. We do not endorse any ca
 ndidate. OCL is the only Oregon lobby working 100% for and by CITIZENS
  of Oregon\; we are truly the voices of Oregonians\, not special interests
 . Sign-up here to see how you can volunteer right from your own home to 
 help spread the word and enhance the effectiveness of OCL. Want to help bu
 t don’t have time to volunteer? Help support OCL with a donation of any
  amount here!
ATTACH;FMTTYPE=image/jpeg:https://oregoncitizenslobby.org/wp-content/uploa
 ds/2019/10/Sollman-Janeen-D-HD30.jpg
CATEGORIES:Town Hall
LOCATION:!Virtual Online Meeting!\, Online Virtual\, Meeting\, 
X-APPLE-STRUCTURED-LOCATION;VALUE=URI;X-ADDRESS=Online Virtual\, Meeting\, 
 ;X-APPLE-RADIUS=100;X-TITLE=!Virtual Online Meeting!:geo:0,0
END:VEVENT
BEGIN:VTIMEZONE
TZID:America/Los_Angeles
X-LIC-LOCATION:America/Los_Angeles
BEGIN:DAYLIGHT
DTSTART:20240310T030000
TZOFFSETFROM:-0800
TZOFFSETTO:-0700
TZNAME:PDT
END:DAYLIGHT
END:VTIMEZONE
END:VCALENDAR