BEGIN:VCALENDAR
VERSION:2.0
PRODID:-//wp-events-plugin.com//7.2.3.1//EN
TZID:America/Los_Angeles
X-WR-TIMEZONE:America/Los_Angeles
BEGIN:VEVENT
UID:1622@oregoncitizenslobby.org
DTSTART;TZID=America/Los_Angeles:20250212T183000
DTEND;TZID=America/Los_Angeles:20250212T193000
DTSTAMP:20250126T180813Z
URL:https://oregoncitizenslobby.org/events/sollman-virtual-town-hall-2-12-
 25-630pm/
SUMMARY:Sollman Virtual Town Hall\, 2-12-25\, 6:30pm
DESCRIPTION: What are her thoughts on upcoming tax bills? Does she seem to 
 care more about helping illegals than US Citizens?
ATTACH;FMTTYPE=image/jpeg:https://oregoncitizenslobby.org/wp-content/uploa
 ds/Janeen-Sollman-D-SD15.jpg
CATEGORIES:Town Hall
LOCATION:Hillsboro Civic Center\,  150 E Main St\, Hillsboro\, OR\, 97123\,
  United States
X-APPLE-STRUCTURED-LOCATION;VALUE=URI;X-ADDRESS= 150 E Main St\, Hillsboro\
 , OR\, 97123\, United States;X-APPLE-RADIUS=100;X-TITLE=Hillsboro Civic Ce
 nter:geo:0,0
END:VEVENT
BEGIN:VTIMEZONE
TZID:America/Los_Angeles
X-LIC-LOCATION:America/Los_Angeles
BEGIN:STANDARD
DTSTART:20241103T010000
TZOFFSETFROM:-0700
TZOFFSETTO:-0800
TZNAME:PST
END:STANDARD
END:VTIMEZONE
END:VCALENDAR