BEGIN:VCALENDAR
VERSION:2.0
PRODID:-//wp-events-plugin.com//7.2.3.1//EN
TZID:America/Los_Angeles
X-WR-TIMEZONE:America/Los_Angeles
BEGIN:VEVENT
UID:1242@oregoncitizenslobby.org
DTSTART;TZID=America/Los_Angeles:20241202T180000
DTEND;TZID=America/Los_Angeles:20241202T193000
DTSTAMP:20241127T150859Z
URL:https://oregoncitizenslobby.org/events/sollman-wlnsvey-town-hall-12-2-
 24-6pm-hillsboro/
SUMMARY:Sollman\, Wlnsvey Town Hall\, 12-2-24\, 6pm\, Hillsboro
DESCRIPTION:Sen. Sollman (D\, SD15) will be joined by Sen. Wlnsvey Campos (
 D\, SD18)\, Washington County Commissioner Nafisa Fai\, and Metro Councilo
 r Juan Carlos Gonzalez for a Transportation-focused Town Hall on Monday\,
  December 2nd at 6:00-7:30 pm\, at the Hillsboro Brookwood Library.\n\n
 \nBe sure to check our calendar for other events where you can speak up to
  make a difference.This information is provided so you can engage the prin
 ciples of Oregon Citizen’s Lobby. We do not endorse any candidate. OCL i
 s the only Oregon lobby working 100% for and by CITIZENS of Oregon\; w
 e are truly the voices of Oregonians\, not special interests. Sign-up her
 e to see how you can volunteer right from your own home to help spread th
 e word and enhance the effectiveness of OCL. Want to help but don’t have
  time to volunteer? Help support OCL with a donation of any amount here!\
 n
ATTACH;FMTTYPE=image/jpeg:https://oregoncitizenslobby.org/wp-content/uploa
 ds/2019/10/Sollman-Janeen-D-HD30.jpg
CATEGORIES:Town Hall
LOCATION:Hillsboro Brookwood Library\, 2850 NE Brookwood Pkwy\, Hillsboro\,
  OR\, 97124\, United States
X-APPLE-STRUCTURED-LOCATION;VALUE=URI;X-ADDRESS=2850 NE Brookwood Pkwy\, Hi
 llsboro\, OR\, 97124\, United States;X-APPLE-RADIUS=100;X-TITLE=Hillsboro 
 Brookwood Library:geo:0,0
END:VEVENT
BEGIN:VTIMEZONE
TZID:America/Los_Angeles
X-LIC-LOCATION:America/Los_Angeles
BEGIN:STANDARD
DTSTART:20241103T010000
TZOFFSETFROM:-0700
TZOFFSETTO:-0800
TZNAME:PST
END:STANDARD
END:VTIMEZONE
END:VCALENDAR