BEGIN:VCALENDAR
VERSION:2.0
PRODID:-//wp-events-plugin.com//7.2.3.1//EN
TZID:America/Los_Angeles
X-WR-TIMEZONE:America/Los_Angeles
BEGIN:VEVENT
UID:1213@oregoncitizenslobby.org
DTSTART;TZID=America/Los_Angeles;VALUE=DATE:20241209
DTEND;TZID=America/Los_Angeles;VALUE=DATE:20241210
DTSTAMP:20240831T165408Z
URL:https://oregoncitizenslobby.org/events/task-force-day-2/
SUMMARY:Task Force Day
DESCRIPTION:During Task Force Days\, Task Forces hold informational hearing
 s on topics that could lead to legislation in upcoming sessions\, hear upd
 ates on implementations of past legislation or hear reports from state age
 ncies.
CATEGORIES:Legislative Committee
END:VEVENT
BEGIN:VTIMEZONE
TZID:America/Los_Angeles
X-LIC-LOCATION:America/Los_Angeles
BEGIN:STANDARD
DTSTART:20241103T010000
TZOFFSETFROM:-0700
TZOFFSETTO:-0800
TZNAME:PST
END:STANDARD
END:VTIMEZONE
END:VCALENDAR