BEGIN:VCALENDAR
VERSION:2.0
PRODID:-//wp-events-plugin.com//7.2.3.1//EN
TZID:America/Los_Angeles
X-WR-TIMEZONE:America/Los_Angeles
BEGIN:VEVENT
UID:1110@oregoncitizenslobby.org
DTSTART;TZID=America/Los_Angeles:20240307T080000
DTEND;TZID=America/Los_Angeles:20240307T150000
DTSTAMP:20240131T195719Z
URL:https://oregoncitizenslobby.org/events/war-room-schedule-at-ike-box-ca
 fe-salem-2024-03-07/
SUMMARY:War Room Schedule at Ike Box Cafe\, Salem
DESCRIPTION:Whether you work independently at home or in the War Room\, the
  GOAL is to identify problematic legislation as soon as possible so testim
 ony can be submitted. Once you suspect a bill of having issues\, whether y
 ou see it on media or use the process below\, you need to send a Notice by
  submitting the bill information on this form:  2024 Legislative Bill Ale
 rt Form\n8am to 3pm\nFebruary 8th\, 15th\, 22nd\, 29th and March 07\, 2024
 .
ATTACH;FMTTYPE=image/jpeg:https://oregoncitizenslobby.org/wp-content/uploa
 ds/2023/02/IKE-Box-Cafe-e1735903563349.jpg
CATEGORIES:War Room
LOCATION:IKE Box Cafe\, Salem\, 299 Cottage St\, NE \, Salem\, Oregon\, 973
 01\, United States
X-APPLE-STRUCTURED-LOCATION;VALUE=URI;X-ADDRESS=299 Cottage St\, NE \, Sale
 m\, Oregon\, 97301\, United States;X-APPLE-RADIUS=100;X-TITLE=IKE Box Cafe
 \, Salem:geo:0,0
END:VEVENT
BEGIN:VTIMEZONE
TZID:America/Los_Angeles
X-LIC-LOCATION:America/Los_Angeles
BEGIN:STANDARD
DTSTART:20231105T010000
TZOFFSETFROM:-0700
TZOFFSETTO:-0800
TZNAME:PST
END:STANDARD
END:VTIMEZONE
END:VCALENDAR