BEGIN:VCALENDAR
VERSION:2.0
PRODID:-//wp-events-plugin.com//7.2.3.1//EN
TZID:America/Los_Angeles
X-WR-TIMEZONE:America/Los_Angeles
BEGIN:VEVENT
UID:1658@oregoncitizenslobby.org
DTSTART;TZID=America/Los_Angeles;VALUE=DATE:20250318
DTEND;TZID=America/Los_Angeles;VALUE=DATE:20250319
DTSTAMP:20250318T152651Z
URL:https://oregoncitizenslobby.org/events/wyden-bynum-town-halls-3-18-25-
 prineville-sisters/
SUMMARY:Wyden & Bynum Town Halls\, 3-18-25\, Prineville & Sisters
DESCRIPTION:Doors open 60 minutes prior to the event. For security reasons\
 , backpacks and large bags are not allowed inside the town hall.
ATTACH;FMTTYPE=image/jpeg:https://oregoncitizenslobby.org/wp-content/uploa
 ds/Ron-Wyden-D-US-Senate.jpg
CATEGORIES:Town Hall
END:VEVENT
BEGIN:VTIMEZONE
TZID:America/Los_Angeles
X-LIC-LOCATION:America/Los_Angeles
BEGIN:DAYLIGHT
DTSTART:20250309T030000
TZOFFSETFROM:-0800
TZOFFSETTO:-0700
TZNAME:PDT
END:DAYLIGHT
END:VTIMEZONE
END:VCALENDAR